BEGIN:VCALENDAR
VERSION:2.0
PRODID:-//Drupal iCal API//EN
X-WR-CALNAME:Events items teaser
X-WR-TIMEZONE:America/Toronto
BEGIN:VTIMEZONE
TZID:America/Toronto
X-LIC-LOCATION:America/Toronto
BEGIN:DAYLIGHT
TZNAME:EDT
TZOFFSETFROM:-0500
TZOFFSETTO:-0400
DTSTART:20160313T070000
END:DAYLIGHT
BEGIN:STANDARD
TZNAME:EST
TZOFFSETFROM:-0400
TZOFFSETTO:-0500
DTSTART:20161106T060000
END:STANDARD
END:VTIMEZONE
BEGIN:VEVENT
UID:69e7e095baee3
DTSTART;TZID=America/Toronto:20161216T140000
SEQUENCE:0
TRANSP:TRANSPARENT
DTEND;TZID=America/Toronto:20161216T140000
URL:https://uwaterloo.ca/architecture/events/thesis-defence-dennis-tang
LOCATION:ARC - School of Architecture 7 Melville Street South Main Lecture 
 Theatre Cambridge ON N1S 2H4 Canada
SUMMARY:Thesis Defence: Dennis Tang
CLASS:PUBLIC
DESCRIPTION:Of the thesis entitled: SPREZZATURA\n\nABSTRACT:\n\nThe dramat
 ic spectacle is dazzling\, alluring\, and seductive.\nGlimmering\, it draw
 s you into a maze of turns\, distractions\, and\nclues. The sparkling v
 eil conceals objects of desire\, while\ndisplaying them with pride.\n\nSl
 its entice desiring glimpses revealing moments of clarity in a\nshimmeri
 ng cloud. These glimpses paint a picture of the world beyond\,\nwith your
  imagination finishing the partial image. Never is\neverything apparent\; 
 a centrefold would destroy all illusions.
DTSTAMP:20260421T203949Z
END:VEVENT
END:VCALENDAR