BEGIN:VCALENDAR
VERSION:2.0
PRODID:-//Drupal iCal API//EN
X-WR-CALNAME:Events items teaser
X-WR-TIMEZONE:America/Toronto
BEGIN:VTIMEZONE
TZID:America/Toronto
X-LIC-LOCATION:America/Toronto
BEGIN:DAYLIGHT
TZNAME:EDT
TZOFFSETFROM:-0500
TZOFFSETTO:-0400
DTSTART:20170312T070000
END:DAYLIGHT
BEGIN:STANDARD
TZNAME:EST
TZOFFSETFROM:-0400
TZOFFSETTO:-0500
DTSTART:20161106T060000
END:STANDARD
END:VTIMEZONE
BEGIN:VEVENT
UID:69e4ba0619e57
DTSTART;TZID=America/Toronto:20170323T180000
SEQUENCE:0
TRANSP:TRANSPARENT
DTEND;TZID=America/Toronto:20170323T180000
URL:https://uwaterloo.ca/architecture/events/uufie-recent-projects
LOCATION:ARC - School of Architecture 7 Melville Street South Cummings Lect
 ure Theatre Cambridge ON N1S 2H4 Canada
SUMMARY:UUfie - Recent Projects
CLASS:PUBLIC
DESCRIPTION:The Winter 2017 Arriscraft Lecture Series is presented in\nco
 nversation with the student-led initiative _Treaty Lands Global\nStories.
 _ \n\nBuilding on differences\n​2017 marks 150 years of colonialism sin
 ce Canadian Confederation\nand the rise of authoritarian populism around t
 he world. In this\ncontext\, the winter lecture series brings together a
 rchitects and\nartists\, historians and designers\, who are constructivel
 y struggling\nto create possible futures of equitable co-existence for peo
 ple of\ndifferent cultural beliefs and practices.
DTSTAMP:20260419T111830Z
END:VEVENT
END:VCALENDAR