BEGIN:VCALENDAR
VERSION:2.0
PRODID:-//Drupal iCal API//EN
X-WR-CALNAME:Events items teaser
X-WR-TIMEZONE:America/Toronto
BEGIN:VTIMEZONE
TZID:America/Toronto
X-LIC-LOCATION:America/Toronto
BEGIN:DAYLIGHT
TZNAME:EDT
TZOFFSETFROM:-0500
TZOFFSETTO:-0400
DTSTART:20170312T070000
END:DAYLIGHT
BEGIN:STANDARD
TZNAME:EST
TZOFFSETFROM:-0400
TZOFFSETTO:-0500
DTSTART:20161106T060000
END:STANDARD
END:VTIMEZONE
BEGIN:VEVENT
UID:69e88cc00f167
DTSTART;TZID=America/Toronto:20170713T180000
SEQUENCE:0
TRANSP:TRANSPARENT
DTEND;TZID=America/Toronto:20170713T180000
URL:https://uwaterloo.ca/architecture/events/thesis-defence-peter-bohdal
LOCATION:ARC - School of Architecture 7 Melville Street South Room 2026 Cam
 bridge ON N1S 2H4 Canada
SUMMARY:Thesis Defence: Peter Bohdal
CLASS:PUBLIC
DESCRIPTION:Of the thesis entitled: MONSTER\n\nABSTRACT:\n\n451 Manning A
 venue\, home to an architect and an artist\, has generated\nan adverse rea
 ction within its community. The property is maintained\nas a testament to
  the Rao family history in Canada\, but most\nvisibly\, Villa Rao stands
  in advocacy of diversity within our built\nenvironment. The recently pro
 posed addition is a monstrosity by one\nhundred and twenty accounts.  \n
 \nThe examining committee is as follows:\n\nSupervisor:
DTSTAMP:20260422T085424Z
END:VEVENT
END:VCALENDAR