BEGIN:VCALENDAR
VERSION:2.0
PRODID:-//Drupal iCal API//EN
X-WR-CALNAME:Events items teaser
X-WR-TIMEZONE:America/Toronto
BEGIN:VTIMEZONE
TZID:America/Toronto
X-LIC-LOCATION:America/Toronto
BEGIN:DAYLIGHT
TZNAME:EDT
TZOFFSETFROM:-0500
TZOFFSETTO:-0400
DTSTART:20170312T070000
END:DAYLIGHT
BEGIN:STANDARD
TZNAME:EST
TZOFFSETFROM:-0400
TZOFFSETTO:-0500
DTSTART:20161106T060000
END:STANDARD
END:VTIMEZONE
BEGIN:VEVENT
UID:69e69eb0dd805
DTSTART;TZID=America/Toronto:20170727T150000
SEQUENCE:0
TRANSP:TRANSPARENT
DTEND;TZID=America/Toronto:20170727T150000
URL:https://uwaterloo.ca/architecture/events/thesis-defence-dustin-parkes
LOCATION:BRIDGE Centre for Architecture + Design 35 Main Street Cambridge O
 N N1R 1V6 Canada
SUMMARY:Thesis Defence: Dustin Parkes
CLASS:PUBLIC
DESCRIPTION:Of the thesis entitled: DREAMING SPACE: EXPLORING THE\nTRANS
 FORMATIVE POWER OF IMMERSIVE ART AND ARCHITECTURE\n\nABSTRACT:
DTSTAMP:20260420T214624Z
END:VEVENT
END:VCALENDAR