BEGIN:VCALENDAR
VERSION:2.0
PRODID:-//Drupal iCal API//EN
X-WR-CALNAME:Events items teaser
X-WR-TIMEZONE:America/Toronto
BEGIN:VTIMEZONE
TZID:America/Toronto
X-LIC-LOCATION:America/Toronto
BEGIN:DAYLIGHT
TZNAME:EDT
TZOFFSETFROM:-0500
TZOFFSETTO:-0400
DTSTART:20170312T070000
END:DAYLIGHT
BEGIN:STANDARD
TZNAME:EST
TZOFFSETFROM:-0400
TZOFFSETTO:-0500
DTSTART:20161106T060000
END:STANDARD
END:VTIMEZONE
BEGIN:VEVENT
UID:69e7cebde65c7
DTSTART;TZID=America/Toronto:20170908T123000
SEQUENCE:0
TRANSP:TRANSPARENT
DTEND;TZID=America/Toronto:20170908T123000
URL:https://uwaterloo.ca/architecture/events/thesis-defence-haley-zhou
LOCATION:ARC - School of Architecture 7 Melville Street South Musagetes Lib
 rary Cambridge ON N1S 2H4 Canada
SUMMARY:Thesis Defence: Haley Zhou
CLASS:PUBLIC
DESCRIPTION:Of the thesis entitled: FROM PEDAGOGY TO AGENCY: LEARNING TO A
 CT IN\nRURAL CHINA\n\nABSTRACT:\n\nHow can a school teach us to act?\n\nFr
 om Pedagogy to Agency confronts the imbalances found between rural\nand ur
 ban society in China and explores the role education have to\nplay in thei
 r ever-changing relationship.
DTSTAMP:20260421T192341Z
END:VEVENT
END:VCALENDAR