BEGIN:VCALENDAR
VERSION:2.0
PRODID:-//Drupal iCal API//EN
X-WR-CALNAME:Events items teaser
X-WR-TIMEZONE:America/Toronto
BEGIN:VTIMEZONE
TZID:America/Toronto
X-LIC-LOCATION:America/Toronto
BEGIN:DAYLIGHT
TZNAME:EDT
TZOFFSETFROM:-0500
TZOFFSETTO:-0400
DTSTART:20170312T070000
END:DAYLIGHT
BEGIN:STANDARD
TZNAME:EST
TZOFFSETFROM:-0400
TZOFFSETTO:-0500
DTSTART:20171105T060000
END:STANDARD
END:VTIMEZONE
BEGIN:VEVENT
UID:69e8588e125b5
DTSTART;TZID=America/Toronto:20171129T133000
SEQUENCE:0
TRANSP:TRANSPARENT
DTEND;TZID=America/Toronto:20171129T133000
URL:https://uwaterloo.ca/architecture/events/thesis-defence-diana-lopez
LOCATION:ARC - School of Architecture 7 Melville Street South Loft Cambridg
 e ON N1S 2H4 Canada
SUMMARY:Thesis Defence: Diana Lopez
CLASS:PUBLIC
DESCRIPTION:Of the thesis entitled: RURAL BOGOTÁ: INHABITING COLOMBIA’S
 \nASYMMETRICAL TERRITORY\n\nABSTRACT:
DTSTAMP:20260422T051142Z
END:VEVENT
END:VCALENDAR