BEGIN:VCALENDAR
VERSION:2.0
PRODID:-//Drupal iCal API//EN
X-WR-CALNAME:Events items teaser
X-WR-TIMEZONE:America/Toronto
BEGIN:VTIMEZONE
TZID:America/Toronto
X-LIC-LOCATION:America/Toronto
BEGIN:DAYLIGHT
TZNAME:EDT
TZOFFSETFROM:-0500
TZOFFSETTO:-0400
DTSTART:20180311T070000
END:DAYLIGHT
BEGIN:STANDARD
TZNAME:EST
TZOFFSETFROM:-0400
TZOFFSETTO:-0500
DTSTART:20171105T060000
END:STANDARD
END:VTIMEZONE
BEGIN:VEVENT
UID:69e65f69a59c1
DTSTART;TZID=America/Toronto:20180913T180000
SEQUENCE:0
TRANSP:TRANSPARENT
DTEND;TZID=America/Toronto:20180913T180000
URL:https://uwaterloo.ca/architecture/events/thesis-defence-danielle-rosen
LOCATION:BRIDGE Centre for Architecture + Design 37 Main Street Cambridge O
 N Canada
SUMMARY:Thesis Defence: Danielle Rosen
CLASS:PUBLIC
DESCRIPTION:[Danielle Rosen thesis image]\nOf the thesis entitled: STILL W
 ANDERING: TALES FROM THE DIASPORA
DTSTAMP:20260420T171625Z
END:VEVENT
END:VCALENDAR