BEGIN:VCALENDAR
VERSION:2.0
PRODID:-//Drupal iCal API//EN
X-WR-CALNAME:Events items teaser
X-WR-TIMEZONE:America/Toronto
BEGIN:VTIMEZONE
TZID:America/Toronto
X-LIC-LOCATION:America/Toronto
BEGIN:DAYLIGHT
TZNAME:EDT
TZOFFSETFROM:-0500
TZOFFSETTO:-0400
DTSTART:20180311T070000
END:DAYLIGHT
BEGIN:STANDARD
TZNAME:EST
TZOFFSETFROM:-0400
TZOFFSETTO:-0500
DTSTART:20181104T060000
END:STANDARD
END:VTIMEZONE
BEGIN:VEVENT
UID:69e3d96f238ab
DTSTART;TZID=America/Toronto:20190111T153000
SEQUENCE:0
TRANSP:TRANSPARENT
DTEND;TZID=America/Toronto:20190111T153000
URL:https://uwaterloo.ca/architecture/events/thesis-defence-milda-miskinyte
LOCATION:ARC - School of Architecture 7 Melville Street South ARC 3506 - Lo
 ft Gallery Cambridge ON N1S 2H4 Canada
SUMMARY:Thesis Defence: Milda Miskinyte
CLASS:PUBLIC
DESCRIPTION:[Suhaib Bhatti thesis image]\n\nOf the thesis entitled: ANXIOU
 S ORNAMENT\; ORNAMENT IN CONTEMPORARY\nARCHITECTURE\n\nABSTRACT:
DTSTAMP:20260418T192015Z
END:VEVENT
END:VCALENDAR