BEGIN:VCALENDAR
VERSION:2.0
PRODID:-//Drupal iCal API//EN
X-WR-CALNAME:Events items teaser
X-WR-TIMEZONE:America/Toronto
BEGIN:VTIMEZONE
TZID:America/Toronto
X-LIC-LOCATION:America/Toronto
BEGIN:DAYLIGHT
TZNAME:EDT
TZOFFSETFROM:-0500
TZOFFSETTO:-0400
DTSTART:20190310T070000
END:DAYLIGHT
BEGIN:STANDARD
TZNAME:EST
TZOFFSETFROM:-0400
TZOFFSETTO:-0500
DTSTART:20191103T060000
END:STANDARD
END:VTIMEZONE
BEGIN:VEVENT
UID:69e9333d2eeaa
DTSTART;TZID=America/Toronto:20191106T183000
SEQUENCE:0
TRANSP:TRANSPARENT
DTEND;TZID=America/Toronto:20191106T210000
URL:https://uwaterloo.ca/architecture/events/shift-2019-11-ideas-infrastruc
 ture
LOCATION:Toronto Central YMCA Centre 20 Grosvenor Street Auditorium\, Secon
 d Floor Toronto ON M4Y 2V5 Canada
SUMMARY:SHIFT 2019: 11 Ideas on Infrastructure
CLASS:PUBLIC
DESCRIPTION:Join Waterloo Architecture Alumni Aidan Mitchelmore\, David\n
 Donnelly &amp; Connie Lei. As shapers of the built environment\, what is\nth
 e role of the architect and architectural thinking in addressing\nincreasi
 ngly urgent and complex challenges? What solutions emerge when\nviewing th
 ese disconnects through an architectural lens?
DTSTAMP:20260422T204445Z
END:VEVENT
END:VCALENDAR