BEGIN:VCALENDAR
VERSION:2.0
PRODID:-//Drupal iCal API//EN
X-WR-CALNAME:Events items teaser
X-WR-TIMEZONE:America/Toronto
BEGIN:VTIMEZONE
TZID:America/Toronto
X-LIC-LOCATION:America/Toronto
BEGIN:DAYLIGHT
TZNAME:EDT
TZOFFSETFROM:-0500
TZOFFSETTO:-0400
DTSTART:20200308T070000
END:DAYLIGHT
BEGIN:STANDARD
TZNAME:EST
TZOFFSETFROM:-0400
TZOFFSETTO:-0500
DTSTART:20191103T060000
END:STANDARD
END:VTIMEZONE
BEGIN:VEVENT
UID:69ebfed0a5d8c
DTSTART;TZID=America/Toronto:20201003T080000
SEQUENCE:0
TRANSP:TRANSPARENT
DTEND;TZID=America/Toronto:20201003T160000
URL:https://uwaterloo.ca/architecture/events/waterloo-virtual-fair
SUMMARY:Waterloo Virtual Fair
CLASS:PUBLIC
DESCRIPTION:Prospective students from across Canada will have the opportuni
 ty to\nlearn more about everything Waterloo has to offer.
DTSTAMP:20260424T233752Z
END:VEVENT
END:VCALENDAR