BEGIN:VCALENDAR
VERSION:2.0
PRODID:-//Drupal iCal API//EN
X-WR-CALNAME:Events items teaser
X-WR-TIMEZONE:America/Toronto
BEGIN:VTIMEZONE
TZID:America/Toronto
X-LIC-LOCATION:America/Toronto
BEGIN:DAYLIGHT
TZNAME:EDT
TZOFFSETFROM:-0500
TZOFFSETTO:-0400
DTSTART:20210314T070000
END:DAYLIGHT
BEGIN:STANDARD
TZNAME:EST
TZOFFSETFROM:-0400
TZOFFSETTO:-0500
DTSTART:20211107T060000
END:STANDARD
END:VTIMEZONE
BEGIN:VEVENT
UID:69ec2d3a9bb9a
DTSTART;TZID=America/Toronto:20220215T200000
SEQUENCE:0
TRANSP:TRANSPARENT
DTEND;TZID=America/Toronto:20220215T210000
URL:https://uwaterloo.ca/architecture/events/bachelor-architectural-studies
 -admission-webinar-admissions
SUMMARY:Bachelor of Architectural Studies Admission Webinar: Admissions\nOv
 erview and Q+A
CLASS:PUBLIC
DESCRIPTION:Please join us as Bachelor of Architectural Studies (BAS) Admis
 sions\nChair\, Rick Andrighetti\, will review the second stage of the BAS
 \nAdmissions Process\, including information about portfolios\,\nintervie
 ws and the précis test. There will be an opportunity for\nattendees to a
 sk questions following the presentation.
DTSTAMP:20260425T025554Z
END:VEVENT
END:VCALENDAR