BEGIN:VCALENDAR
VERSION:2.0
PRODID:-//Drupal iCal API//EN
X-WR-CALNAME:Events items teaser
X-WR-TIMEZONE:America/Toronto
BEGIN:VTIMEZONE
TZID:America/Toronto
X-LIC-LOCATION:America/Toronto
BEGIN:DAYLIGHT
TZNAME:EDT
TZOFFSETFROM:-0500
TZOFFSETTO:-0400
DTSTART:20220313T070000
END:DAYLIGHT
BEGIN:STANDARD
TZNAME:EST
TZOFFSETFROM:-0400
TZOFFSETTO:-0500
DTSTART:20221106T060000
END:STANDARD
END:VTIMEZONE
BEGIN:VEVENT
UID:69e4db85c8c90
DTSTART;TZID=America/Toronto:20221216T090000
SEQUENCE:0
TRANSP:TRANSPARENT
DTEND;TZID=America/Toronto:20221216T110000
URL:https://uwaterloo.ca/architecture/events/thesis-defence-pui-yue-iris-ip
LOCATION:Online - Teams Canada
SUMMARY:Thesis Defence: Pui Yue Iris Ip
CLASS:PUBLIC
DESCRIPTION:GREATER TORONTO CHINESE DOWNTOWN\n\nABSTRACT:
DTSTAMP:20260419T134125Z
END:VEVENT
END:VCALENDAR