BEGIN:VCALENDAR
VERSION:2.0
PRODID:-//Drupal iCal API//EN
X-WR-CALNAME:Events items teaser
X-WR-TIMEZONE:America/Toronto
BEGIN:VTIMEZONE
TZID:America/Toronto
X-LIC-LOCATION:America/Toronto
BEGIN:DAYLIGHT
TZNAME:EDT
TZOFFSETFROM:-0500
TZOFFSETTO:-0400
DTSTART:20220313T070000
END:DAYLIGHT
BEGIN:STANDARD
TZNAME:EST
TZOFFSETFROM:-0400
TZOFFSETTO:-0500
DTSTART:20221106T060000
END:STANDARD
END:VTIMEZONE
BEGIN:VEVENT
UID:69e50e531e026
DTSTART;TZID=America/Toronto:20230127T100000
SEQUENCE:0
TRANSP:TRANSPARENT
DTEND;TZID=America/Toronto:20230127T120000
URL:https://uwaterloo.ca/architecture/events/thesis-defence-parastoo-varsho
 saz
LOCATION:ARC - School of Architecture 7 Melville Street South Riverside Gal
 lery Cambridge ON N1S 2H4 Canada
SUMMARY:Thesis Defence: Parastoo Varshosaz
CLASS:PUBLIC
DESCRIPTION:REGULATING VISUAL CONNECTIVITY AND LIGHT MODULATION THROUGH 3D-
 PRINTED\nLIGHT SCREENS\n\nABSTRACT:
DTSTAMP:20260419T171811Z
END:VEVENT
END:VCALENDAR