BEGIN:VCALENDAR
VERSION:2.0
PRODID:-//Drupal iCal API//EN
X-WR-CALNAME:Events items teaser
X-WR-TIMEZONE:America/Toronto
BEGIN:VTIMEZONE
TZID:America/Toronto
X-LIC-LOCATION:America/Toronto
BEGIN:DAYLIGHT
TZNAME:EDT
TZOFFSETFROM:-0500
TZOFFSETTO:-0400
DTSTART:20220313T070000
END:DAYLIGHT
BEGIN:STANDARD
TZNAME:EST
TZOFFSETFROM:-0400
TZOFFSETTO:-0500
DTSTART:20221106T060000
END:STANDARD
END:VTIMEZONE
BEGIN:VEVENT
UID:69e5b3f403d5f
DTSTART;TZID=America/Toronto:20230223T100000
SEQUENCE:0
TRANSP:TRANSPARENT
DTEND;TZID=America/Toronto:20230223T120000
URL:https://uwaterloo.ca/architecture/events/thesis-defence-martha-trivett
LOCATION:Canada
SUMMARY:Thesis Defence: Martha Trivett
CLASS:PUBLIC
DESCRIPTION:UNDOING OIL: REGENERATIVE DISASSEMBLY FOR COPENHAGEN'S PETROL I
 SLAND\n\nABSTRACT:
DTSTAMP:20260420T050452Z
END:VEVENT
END:VCALENDAR