BEGIN:VCALENDAR
VERSION:2.0
PRODID:-//Drupal iCal API//EN
X-WR-CALNAME:Events items teaser
X-WR-TIMEZONE:America/Toronto
BEGIN:VTIMEZONE
TZID:America/Toronto
X-LIC-LOCATION:America/Toronto
BEGIN:DAYLIGHT
TZNAME:EDT
TZOFFSETFROM:-0500
TZOFFSETTO:-0400
DTSTART:20230312T070000
END:DAYLIGHT
BEGIN:STANDARD
TZNAME:EST
TZOFFSETFROM:-0400
TZOFFSETTO:-0500
DTSTART:20221106T060000
END:STANDARD
END:VTIMEZONE
BEGIN:VEVENT
UID:69e9091f93ae9
DTSTART;TZID=America/Toronto:20230602T110000
SEQUENCE:0
TRANSP:TRANSPARENT
DTEND;TZID=America/Toronto:20230717T170000
URL:https://uwaterloo.ca/architecture/events/robotic-clay-new-methods-archi
 tectural-ceramics
LOCATION:The Canadian Clay &amp; Glass Gallery 25 Caroline Street North Waterlo
 o ON N2L 2Y5 Canada
SUMMARY:Robotic Clay: New Methods in Architectural Ceramics
CLASS:PUBLIC
DESCRIPTION:ROBOTIC CLAY: NEW METHODS IN ARCHITECTURAL CERAMICS\n\nJUNE 2 T
 O SEPTEMBER 10\, 2023\n\nThe exhibition will bring together academic insti
 tutions from across\nNorth America to showcase 3D-printed architectural ce
 ramics. Combining\ntraditional ceramic craft and robotic fabrication\, the
  exhibition will\nexplore how attuning emergent technologies to the unique
  properties of\nclay can create new form and spatial languages.
DTSTAMP:20260422T174503Z
END:VEVENT
END:VCALENDAR