BEGIN:VCALENDAR
VERSION:2.0
PRODID:-//Drupal iCal API//EN
X-WR-CALNAME:Events items teaser
X-WR-TIMEZONE:America/Toronto
BEGIN:VTIMEZONE
TZID:America/Toronto
X-LIC-LOCATION:America/Toronto
BEGIN:DAYLIGHT
TZNAME:EDT
TZOFFSETFROM:-0500
TZOFFSETTO:-0400
DTSTART:20230312T070000
END:DAYLIGHT
BEGIN:STANDARD
TZNAME:EST
TZOFFSETFROM:-0400
TZOFFSETTO:-0500
DTSTART:20221106T060000
END:STANDARD
END:VTIMEZONE
BEGIN:VEVENT
UID:69e5fccd459e1
DTSTART;TZID=America/Toronto:20230629T190000
SEQUENCE:0
TRANSP:TRANSPARENT
DTEND;TZID=America/Toronto:20230629T190000
URL:https://uwaterloo.ca/architecture/events/masterworks-2023-exhibition-si
 gns-define
LOCATION:ARC - School of Architecture 7 Melville Street South Riverside Gal
 lery Cambridge ON N1S 2H4 Canada
SUMMARY:Masterworks 2023 Exhibition: The Signs That Define
CLASS:PUBLIC
DESCRIPTION:The University of Waterloo School of Architecture presents Mast
 erworks\n2023\, an annual showcase of exemplary graduate student thesis\np
 rojects. This year’s exhibition is curated by alum Kurt Kraler\naround t
 he themes explored in his graduate thesis “The Generic\nSpectacle” and
  his recently released book “The Signs That Define\nToronto”\, publish
 ed by ERA Architects and Spacing.
DTSTAMP:20260420T101541Z
END:VEVENT
END:VCALENDAR