BEGIN:VCALENDAR
VERSION:2.0
PRODID:-//Drupal iCal API//EN
X-WR-CALNAME:Events items teaser
X-WR-TIMEZONE:America/Toronto
BEGIN:VTIMEZONE
TZID:America/Toronto
X-LIC-LOCATION:America/Toronto
BEGIN:DAYLIGHT
TZNAME:EDT
TZOFFSETFROM:-0500
TZOFFSETTO:-0400
DTSTART:20130310T070000
END:DAYLIGHT
BEGIN:STANDARD
TZNAME:EST
TZOFFSETFROM:-0400
TZOFFSETTO:-0500
DTSTART:20131103T060000
END:STANDARD
END:VTIMEZONE
BEGIN:VEVENT
UID:69eac6c5f1f81
DTSTART;TZID=America/Toronto:20140301T150000
SEQUENCE:0
TRANSP:TRANSPARENT
DTEND;TZID=America/Toronto:20140301T210000
URL:https://uwaterloo.ca/architecture/events/march-open-house-2014
LOCATION:ARC - School of Architecture 7 Melville Street South Cambridge ON 
 N1S 2H4 Canada
SUMMARY:March Open House 2014
CLASS:PUBLIC
DESCRIPTION:The School of Architecture invites all interested students\, al
 ong with\ntheir parents and friends to join us in Cambridge on Saturday
 \,\nMarch 1\, 2014 from 10:00 am to 4:00 pm. This is a great opportunity t
 o\nsee the Architecture campus\, speak with professors and current\nstuden
 ts\, tour the facilities\, see demonstrations and displays of\nstudent wor
 k &amp; portfolios\, and attend an academic information session.
DTSTAMP:20260424T012630Z
END:VEVENT
END:VCALENDAR