BEGIN:VCALENDAR
VERSION:2.0
PRODID:-//Drupal iCal API//EN
X-WR-CALNAME:Events items teaser
X-WR-TIMEZONE:America/Toronto
BEGIN:VTIMEZONE
TZID:America/Toronto
X-LIC-LOCATION:America/Toronto
BEGIN:DAYLIGHT
TZNAME:EDT
TZOFFSETFROM:-0500
TZOFFSETTO:-0400
DTSTART:20110313T070000
END:DAYLIGHT
BEGIN:STANDARD
TZNAME:EST
TZOFFSETFROM:-0400
TZOFFSETTO:-0500
DTSTART:20101107T060000
END:STANDARD
END:VTIMEZONE
BEGIN:VEVENT
UID:69b62938c1f8e
DTSTART;TZID=America/Toronto:20110502T113000
SEQUENCE:0
TRANSP:TRANSPARENT
DTEND;TZID=America/Toronto:20110502T113000
URL:https://uwaterloo.ca/artificial-intelligence-group/events/ai-seminar-sm
 artphone-monitoring-lifestyle-factors-related
LOCATION:DC - William G. Davis Computer Research Centre 200 University Aven
 ue West 1304 Waterloo ON N2L 3G1 Canada
SUMMARY:AI seminar: Smartphone monitoring of lifestyle factors related to\n
 Alzheimer's disease
CLASS:PUBLIC
DESCRIPTION:Speaker: James Tung\, University of Waterloo
DTSTAMP:20260315T033624Z
END:VEVENT
END:VCALENDAR