BEGIN:VCALENDAR
VERSION:2.0
PRODID:-//Drupal iCal API//EN
X-WR-CALNAME:Events items teaser
X-WR-TIMEZONE:America/Toronto
BEGIN:VTIMEZONE
TZID:America/Toronto
X-LIC-LOCATION:America/Toronto
BEGIN:DAYLIGHT
TZNAME:EDT
TZOFFSETFROM:-0500
TZOFFSETTO:-0400
DTSTART:20100314T070000
END:DAYLIGHT
BEGIN:STANDARD
TZNAME:EST
TZOFFSETFROM:-0400
TZOFFSETTO:-0500
DTSTART:20101107T060000
END:STANDARD
END:VTIMEZONE
BEGIN:VEVENT
UID:69b73f08cb69d
DTSTART;TZID=America/Toronto:20110128T120000
SEQUENCE:0
TRANSP:TRANSPARENT
DTEND;TZID=America/Toronto:20110128T120000
URL:https://uwaterloo.ca/artificial-intelligence-group/events/ai-seminar-no
 ah-navigation-and-obstacle-avoidance-help
LOCATION:DC - William G. Davis Computer Research Centre 200 University Aven
 ue West 2306C (AI lab) Waterloo ON N2L 3G1 Canada
SUMMARY:AI seminar: NOAH: Navigation and Obstacle Avoidance Help for\nwheel
 chair users with Dementia
CLASS:PUBLIC
DESCRIPTION:Speaker: Pooja Viswanathan (PhD candidate at the University of 
 British\nColumbia)
DTSTAMP:20260315T232144Z
END:VEVENT
END:VCALENDAR