BEGIN:VCALENDAR
VERSION:2.0
PRODID:-//Drupal iCal API//EN
X-WR-CALNAME:Events items teaser
X-WR-TIMEZONE:America/Toronto
BEGIN:VTIMEZONE
TZID:America/Toronto
X-LIC-LOCATION:America/Toronto
BEGIN:DAYLIGHT
TZNAME:EDT
TZOFFSETFROM:-0500
TZOFFSETTO:-0400
DTSTART:20100314T070000
END:DAYLIGHT
BEGIN:STANDARD
TZNAME:EST
TZOFFSETFROM:-0400
TZOFFSETTO:-0500
DTSTART:20101107T060000
END:STANDARD
END:VTIMEZONE
BEGIN:VEVENT
UID:69b7d4241be6d
DTSTART;TZID=America/Toronto:20110121T120000
SEQUENCE:0
TRANSP:TRANSPARENT
DTEND;TZID=America/Toronto:20110121T120000
URL:https://uwaterloo.ca/artificial-intelligence-group/events/ai-seminar-on
 e-class-classification-review-and-application
LOCATION:DC - William G. Davis Computer Research Centre 200 University Aven
 ue West 2306C (AI lab) Waterloo ON N2L 3G1 Canada
SUMMARY:AI seminar: One class classification: Review and application to Ram
 an\nspectroscopy
CLASS:PUBLIC
DESCRIPTION:Speaker: Shehroz Khan\, University of Waterloo
DTSTAMP:20260316T095756Z
END:VEVENT
END:VCALENDAR