BEGIN:VCALENDAR
VERSION:2.0
PRODID:-//Drupal iCal API//EN
X-WR-CALNAME:Events items teaser
X-WR-TIMEZONE:America/Toronto
BEGIN:VTIMEZONE
TZID:America/Toronto
X-LIC-LOCATION:America/Toronto
BEGIN:DAYLIGHT
TZNAME:EDT
TZOFFSETFROM:-0500
TZOFFSETTO:-0400
DTSTART:20100314T070000
END:DAYLIGHT
BEGIN:STANDARD
TZNAME:EST
TZOFFSETFROM:-0400
TZOFFSETTO:-0500
DTSTART:20091101T060000
END:STANDARD
END:VTIMEZONE
BEGIN:VEVENT
UID:69b1366a98c26
DTSTART;TZID=America/Toronto:20100723T103000
SEQUENCE:0
TRANSP:TRANSPARENT
DTEND;TZID=America/Toronto:20100723T103000
URL:https://uwaterloo.ca/artificial-intelligence-group/events/ai-seminar-re
 asoning-about-benefits-and-costs-interation
LOCATION:DC - William G. Davis Computer Research Centre 200 University Aven
 ue West 2306C (AI lab) Waterloo ON N2L 3G1 Canada
SUMMARY:AI seminar: Reasoning about benefits and costs of interation with\n
 users in real-time decision making environments with applications to\nheal
 thcare scenarios
CLASS:PUBLIC
DESCRIPTION:Speaker: Hyunggu Jung\, University of Waterloo
DTSTAMP:20260311T093122Z
END:VEVENT
END:VCALENDAR