BEGIN:VCALENDAR
VERSION:2.0
PRODID:-//Drupal iCal API//EN
X-WR-CALNAME:Events items teaser
X-WR-TIMEZONE:America/Toronto
BEGIN:VTIMEZONE
TZID:America/Toronto
X-LIC-LOCATION:America/Toronto
BEGIN:DAYLIGHT
TZNAME:EDT
TZOFFSETFROM:-0500
TZOFFSETTO:-0400
DTSTART:20090308T070000
END:DAYLIGHT
BEGIN:STANDARD
TZNAME:EST
TZOFFSETFROM:-0400
TZOFFSETTO:-0500
DTSTART:20091101T060000
END:STANDARD
END:VTIMEZONE
BEGIN:VEVENT
UID:69b6fed497a77
DTSTART;TZID=America/Toronto:20091207T130000
SEQUENCE:0
TRANSP:TRANSPARENT
DTEND;TZID=America/Toronto:20091207T130000
URL:https://uwaterloo.ca/artificial-intelligence-group/events/ai-seminar-su
 mmarizing-speech
LOCATION:DC - William G. Davis Computer Research Centre 200 University Aven
 ue West 2306C (AI lab) Waterloo ON N2L 3G1 Canada
SUMMARY:AI seminar: Summarizing speech
CLASS:PUBLIC
DESCRIPTION:Speaker: Gerald Penn\, University of Toronto\n\nSpeech is argua
 bly the most basic\, most natural form of communication\nthat we engage in
 \, so it should come as no surprise that there has\nbeen a consistent pres
 sure to deliver spoken audio content on web\npages that\, in principle\, c
 an be searched through.
DTSTAMP:20260315T184748Z
END:VEVENT
END:VCALENDAR