BEGIN:VCALENDAR
VERSION:2.0
PRODID:-//Drupal iCal API//EN
X-WR-CALNAME:Events items teaser
X-WR-TIMEZONE:America/Toronto
BEGIN:VTIMEZONE
TZID:America/Toronto
X-LIC-LOCATION:America/Toronto
BEGIN:DAYLIGHT
TZNAME:EDT
TZOFFSETFROM:-0500
TZOFFSETTO:-0400
DTSTART:20090308T070000
END:DAYLIGHT
BEGIN:STANDARD
TZNAME:EST
TZOFFSETFROM:-0400
TZOFFSETTO:-0500
DTSTART:20081102T060000
END:STANDARD
END:VTIMEZONE
BEGIN:VEVENT
UID:69b2eebd81647
DTSTART;TZID=America/Toronto:20091007T133000
SEQUENCE:0
TRANSP:TRANSPARENT
DTEND;TZID=America/Toronto:20091007T133000
URL:https://uwaterloo.ca/artificial-intelligence-group/events/ai-seminar-ta
 ming-complexity-monster
LOCATION:DC - William G. Davis Computer Research Centre 200 University Aven
 ue West 1304 Waterloo ON N2L 3G1 Canada
SUMMARY:AI seminar: Taming the complexity monster
CLASS:PUBLIC
DESCRIPTION:Speaker: Holger Hoos\, the University of British Columbia\n\nWe
  live in interesting times - as individuals\, as members of various\ncommu
 nities and organisations\, and as inhabitants of planet Earth\, we\nface m
 any challenges\, ranging from climate change to resource\nlimitations\, fr
 om market risks and uncertainties to complex diseases.
DTSTAMP:20260312T165005Z
END:VEVENT
END:VCALENDAR