BEGIN:VCALENDAR
VERSION:2.0
PRODID:-//Drupal iCal API//EN
X-WR-CALNAME:Events items teaser
X-WR-TIMEZONE:America/Toronto
BEGIN:VTIMEZONE
TZID:America/Toronto
X-LIC-LOCATION:America/Toronto
BEGIN:DAYLIGHT
TZNAME:EDT
TZOFFSETFROM:-0500
TZOFFSETTO:-0400
DTSTART:20090308T070000
END:DAYLIGHT
BEGIN:STANDARD
TZNAME:EST
TZOFFSETFROM:-0400
TZOFFSETTO:-0500
DTSTART:20081102T060000
END:STANDARD
END:VTIMEZONE
BEGIN:VEVENT
UID:69b09bea6f44d
DTSTART;TZID=America/Toronto:20090724T113000
SEQUENCE:0
TRANSP:TRANSPARENT
DTEND;TZID=America/Toronto:20090724T113000
URL:https://uwaterloo.ca/artificial-intelligence-group/events/ai-seminar-ex
 tended-markov-tracking-ensemble-actions
LOCATION:DC - William G. Davis Computer Research Centre 200 University Aven
 ue West 2306C (AI lab) Waterloo ON N2L 3G1 Canada
SUMMARY:AI seminar: Extended Markov tracking with ensemble actions
CLASS:PUBLIC
DESCRIPTION:Speaker: Zinovi Rabinovich\, University of Southampton\, U.K.\n
 \nEgocentric Perceptual Control (EPC) is characterised by the optimality\n
 criteria and the control task being formulated in terms of the agent's\npe
 rceptions.
DTSTAMP:20260310T223210Z
END:VEVENT
END:VCALENDAR