BEGIN:VCALENDAR
VERSION:2.0
PRODID:-//Drupal iCal API//EN
X-WR-CALNAME:Events items teaser
X-WR-TIMEZONE:America/Toronto
BEGIN:VTIMEZONE
TZID:America/Toronto
X-LIC-LOCATION:America/Toronto
BEGIN:DAYLIGHT
TZNAME:EDT
TZOFFSETFROM:-0500
TZOFFSETTO:-0400
DTSTART:20090308T070000
END:DAYLIGHT
BEGIN:STANDARD
TZNAME:EST
TZOFFSETFROM:-0400
TZOFFSETTO:-0500
DTSTART:20081102T060000
END:STANDARD
END:VTIMEZONE
BEGIN:VEVENT
UID:69b6fecc4fd71
DTSTART;TZID=America/Toronto:20090710T113000
SEQUENCE:0
TRANSP:TRANSPARENT
DTEND;TZID=America/Toronto:20090710T113000
URL:https://uwaterloo.ca/artificial-intelligence-group/events/ai-seminar-mi
 nimal-sufficient-explanations-factored-markov
LOCATION:DC - William G. Davis Computer Research Centre 200 University Aven
 ue West 2306C (AI lab) Waterloo ON N2L 3G1 Canada
SUMMARY:AI seminar: Minimal sufficient explanations for factored Markov\nde
 cision processes
CLASS:PUBLIC
DESCRIPTION:Speaker: Omar Zia Khan\n\nExplaining policies of Markov Decisio
 n Processes (MDPs) is complicated\ndue to their probabilistic and sequenti
 al nature. We present a\ntechnique to explain policies for factored MDP by
  populating a set of\ndomain-independent templates.
DTSTAMP:20260315T184740Z
END:VEVENT
END:VCALENDAR