BEGIN:VCALENDAR
VERSION:2.0
PRODID:-//Drupal iCal API//EN
X-WR-CALNAME:Events items teaser
X-WR-TIMEZONE:America/Toronto
BEGIN:VTIMEZONE
TZID:America/Toronto
X-LIC-LOCATION:America/Toronto
BEGIN:DAYLIGHT
TZNAME:EDT
TZOFFSETFROM:-0500
TZOFFSETTO:-0400
DTSTART:20090308T070000
END:DAYLIGHT
BEGIN:STANDARD
TZNAME:EST
TZOFFSETFROM:-0400
TZOFFSETTO:-0500
DTSTART:20081102T060000
END:STANDARD
END:VTIMEZONE
BEGIN:VEVENT
UID:69b6fecfe21c5
DTSTART;TZID=America/Toronto:20090709T110000
SEQUENCE:0
TRANSP:TRANSPARENT
DTEND;TZID=America/Toronto:20090709T110000
URL:https://uwaterloo.ca/artificial-intelligence-group/events/ai-seminar-ov
 erlapping-coalition-formation
LOCATION:DC - William G. Davis Computer Research Centre 200 University Aven
 ue West 2306C (AI lab) Waterloo ON N2L 3G1 Canada
SUMMARY:AI seminar: Overlapping coalition formation
CLASS:PUBLIC
DESCRIPTION:Speaker: George Chalkiadakis\, University of Southampton\n\nIn 
 multiagent domains\, agents form coalitions to perform tasks. The\nusual m
 odels of cooperative game theory assume that the desired\noutcome is eithe
 r the grand coalition or a coalition structure that\nconsists of disjoint 
 coalitions (i.e.\, a partition of the set of\nagents).
DTSTAMP:20260315T184743Z
END:VEVENT
END:VCALENDAR