BEGIN:VCALENDAR
VERSION:2.0
PRODID:-//Drupal iCal API//EN
X-WR-CALNAME:Events items teaser
X-WR-TIMEZONE:America/Toronto
BEGIN:VTIMEZONE
TZID:America/Toronto
X-LIC-LOCATION:America/Toronto
BEGIN:DAYLIGHT
TZNAME:EDT
TZOFFSETFROM:-0500
TZOFFSETTO:-0400
DTSTART:20090308T070000
END:DAYLIGHT
BEGIN:STANDARD
TZNAME:EST
TZOFFSETFROM:-0400
TZOFFSETTO:-0500
DTSTART:20081102T060000
END:STANDARD
END:VTIMEZONE
BEGIN:VEVENT
UID:69b6fed0e857c
DTSTART;TZID=America/Toronto:20090522T113000
SEQUENCE:0
TRANSP:TRANSPARENT
DTEND;TZID=America/Toronto:20090522T113000
URL:https://uwaterloo.ca/artificial-intelligence-group/events/ai-seminar-cl
 inching-playoff-spots-and-manipulating
LOCATION:DC - William G. Davis Computer Research Centre 200 University Aven
 ue West 2306C (AI lab) Waterloo ON N2L 3G1 Canada
SUMMARY:AI seminar: Clinching playoff spots and manipulating tournaments
CLASS:PUBLIC
DESCRIPTION:Speaker: Tyrel Russell\n\nThis talk will have two parts. The fi
 rst part will be a short talk on\nthe work that I will be presenting at CP
 AIOR this year.
DTSTAMP:20260315T184744Z
END:VEVENT
END:VCALENDAR