BEGIN:VCALENDAR
VERSION:2.0
PRODID:-//Drupal iCal API//EN
X-WR-CALNAME:Events items teaser
X-WR-TIMEZONE:America/Toronto
BEGIN:VTIMEZONE
TZID:America/Toronto
X-LIC-LOCATION:America/Toronto
BEGIN:DAYLIGHT
TZNAME:EDT
TZOFFSETFROM:-0500
TZOFFSETTO:-0400
DTSTART:20090308T070000
END:DAYLIGHT
BEGIN:STANDARD
TZNAME:EST
TZOFFSETFROM:-0400
TZOFFSETTO:-0500
DTSTART:20081102T060000
END:STANDARD
END:VTIMEZONE
BEGIN:VEVENT
UID:69b6fecd34f2f
DTSTART;TZID=America/Toronto:20090501T113000
SEQUENCE:0
TRANSP:TRANSPARENT
DTEND;TZID=America/Toronto:20090501T113000
URL:https://uwaterloo.ca/artificial-intelligence-group/events/ai-seminar-ac
 tive-learning-regression-over-finite-domains
LOCATION:DC - William G. Davis Computer Research Centre 200 University Aven
 ue West 2306C (AI lab) Waterloo ON N2L 3G1 Canada
SUMMARY:AI seminar: Active learning in regression over finite domains
CLASS:PUBLIC
DESCRIPTION:Speaker: Casba Szepesvari\, University of Alberta\n\nIt is know
 n that the nonparametric minimax rate for regression in the\nactive and pa
 ssive settings are the same for various smoothness\nclasses. In this talk\
 , I will look into the simpler problem when the\nregression domain is fini
 te\, but the response variance is location\ndependent\, i.e.\, the noise i
 s heteroscedastic.
DTSTAMP:20260315T184741Z
END:VEVENT
END:VCALENDAR