BEGIN:VCALENDAR
VERSION:2.0
PRODID:-//Drupal iCal API//EN
X-WR-CALNAME:Events items teaser
X-WR-TIMEZONE:America/Toronto
BEGIN:VTIMEZONE
TZID:America/Toronto
X-LIC-LOCATION:America/Toronto
BEGIN:DAYLIGHT
TZNAME:EDT
TZOFFSETFROM:-0500
TZOFFSETTO:-0400
DTSTART:20090308T070000
END:DAYLIGHT
BEGIN:STANDARD
TZNAME:EST
TZOFFSETFROM:-0400
TZOFFSETTO:-0500
DTSTART:20081102T060000
END:STANDARD
END:VTIMEZONE
BEGIN:VEVENT
UID:69b6fec231898
DTSTART;TZID=America/Toronto:20090417T113000
SEQUENCE:0
TRANSP:TRANSPARENT
DTEND;TZID=America/Toronto:20090417T113000
URL:https://uwaterloo.ca/artificial-intelligence-group/events/ai-seminar-in
 telligent-devices-engage-cognitively-disabled
LOCATION:DC - William G. Davis Computer Research Centre 200 University Aven
 ue West 2306C (AI lab) Waterloo ON N2L 3G1 Canada
SUMMARY:AI seminar: Intelligent devices to engage cognitively disabled olde
 r\nadults in visual artwork
CLASS:PUBLIC
DESCRIPTION:Speaker: Jesse Hoey\, University of Dundee\n\nIn this talk\, I 
 will present a class of devices\, called ePADs\, for use\nby art therapist
 s working with older adults with a progressive illness\nsuch as Alzheimer'
 s disease.
DTSTAMP:20260315T184730Z
END:VEVENT
END:VCALENDAR