BEGIN:VCALENDAR
VERSION:2.0
PRODID:-//Drupal iCal API//EN
X-WR-CALNAME:Events items teaser
X-WR-TIMEZONE:America/Toronto
BEGIN:VTIMEZONE
TZID:America/Toronto
X-LIC-LOCATION:America/Toronto
BEGIN:DAYLIGHT
TZNAME:EDT
TZOFFSETFROM:-0500
TZOFFSETTO:-0400
DTSTART:20090308T070000
END:DAYLIGHT
BEGIN:STANDARD
TZNAME:EST
TZOFFSETFROM:-0400
TZOFFSETTO:-0500
DTSTART:20081102T060000
END:STANDARD
END:VTIMEZONE
BEGIN:VEVENT
UID:69c231670e5d5
DTSTART;TZID=America/Toronto:20090325T133000
SEQUENCE:0
TRANSP:TRANSPARENT
DTEND;TZID=America/Toronto:20090325T133000
URL:https://uwaterloo.ca/artificial-intelligence-group/events/ai-seminar-op
 timal-scheduling-contract-algorithms-soft
LOCATION:DC - William G. Davis Computer Research Centre 200 University Aven
 ue West 1304 Waterloo ON N2L 3G1 Canada
SUMMARY:AI seminar: Optimal scheduling of contract algorithms with soft\nde
 adlines
CLASS:PUBLIC
DESCRIPTION:Speaker: Angele Hamel\, Wilfrid Laurier University\n\nA contrac
 t algorithm is an algorithm which is given\, as part of its\ninput\, a spe
 cified amount of allowable computation time. In contrast\,\ninterruptible 
 algorithms may be interrupted throughout their\nexecution\, at which point
  they must report their current solution.
DTSTAMP:20260324T063831Z
END:VEVENT
END:VCALENDAR