BEGIN:VCALENDAR
VERSION:2.0
PRODID:-//Drupal iCal API//EN
X-WR-CALNAME:Events items teaser
X-WR-TIMEZONE:America/Toronto
BEGIN:VTIMEZONE
TZID:America/Toronto
X-LIC-LOCATION:America/Toronto
BEGIN:DAYLIGHT
TZNAME:EDT
TZOFFSETFROM:-0500
TZOFFSETTO:-0400
DTSTART:20090308T070000
END:DAYLIGHT
BEGIN:STANDARD
TZNAME:EST
TZOFFSETFROM:-0400
TZOFFSETTO:-0500
DTSTART:20081102T060000
END:STANDARD
END:VTIMEZONE
BEGIN:VEVENT
UID:69b4a9c93e479
DTSTART;TZID=America/Toronto:20090320T113000
SEQUENCE:0
TRANSP:TRANSPARENT
DTEND;TZID=America/Toronto:20090320T113000
URL:https://uwaterloo.ca/artificial-intelligence-group/events/ai-seminar-st
 udy-data-clusterability
LOCATION:DC - William G. Davis Computer Research Centre 200 University Aven
 ue West 2306C (AI lab) Waterloo ON N2L 3G1 Canada
SUMMARY:AI seminar: A study of data clusterability
CLASS:PUBLIC
DESCRIPTION:Speaker: Rita Ackerman\n\nWe investigate measures of the cluste
 rability of data sets. Namely\,\nways to define how `strong' or `conclusiv
 e' is the clustering\nstructure of a given data set.
DTSTAMP:20260314T002025Z
END:VEVENT
END:VCALENDAR