BEGIN:VCALENDAR
VERSION:2.0
PRODID:-//Drupal iCal API//EN
X-WR-CALNAME:Events items teaser
X-WR-TIMEZONE:America/Toronto
BEGIN:VTIMEZONE
TZID:America/Toronto
X-LIC-LOCATION:America/Toronto
BEGIN:DAYLIGHT
TZNAME:EDT
TZOFFSETFROM:-0500
TZOFFSETTO:-0400
DTSTART:20080309T070000
END:DAYLIGHT
BEGIN:STANDARD
TZNAME:EST
TZOFFSETFROM:-0400
TZOFFSETTO:-0500
DTSTART:20081102T060000
END:STANDARD
END:VTIMEZONE
BEGIN:VEVENT
UID:69bc44f217ae9
DTSTART;TZID=America/Toronto:20090206T113000
SEQUENCE:0
TRANSP:TRANSPARENT
DTEND;TZID=America/Toronto:20090206T113000
URL:https://uwaterloo.ca/artificial-intelligence-group/events/ai-seminar-de
 veloping-decision-theoretic-user-model-software
LOCATION:DC - William G. Davis Computer Research Centre 200 University Aven
 ue West 2306C (AI lab) Waterloo ON N2L 3G1 Canada
SUMMARY:AI seminar: Developing a decision-theoretic user model for software
 \ncustomization assistance
CLASS:PUBLIC
DESCRIPTION:Speaker: Bowen Hui\, University of Toronto\n\nDue to its increa
 sing complexity\, there is a need to adapt software in\norder to maximize 
 end-user experience. In this talk\, I will describe\nmy PhD work on develo
 ping and learning a user model in the domain of\nintelligent assistance.
DTSTAMP:20260319T184818Z
END:VEVENT
END:VCALENDAR