BEGIN:VCALENDAR
VERSION:2.0
PRODID:-//Drupal iCal API//EN
X-WR-CALNAME:Events items teaser
X-WR-TIMEZONE:America/Toronto
BEGIN:VTIMEZONE
TZID:America/Toronto
X-LIC-LOCATION:America/Toronto
BEGIN:DAYLIGHT
TZNAME:EDT
TZOFFSETFROM:-0500
TZOFFSETTO:-0400
DTSTART:20080309T070000
END:DAYLIGHT
BEGIN:STANDARD
TZNAME:EST
TZOFFSETFROM:-0400
TZOFFSETTO:-0500
DTSTART:20081102T060000
END:STANDARD
END:VTIMEZONE
BEGIN:VEVENT
UID:69b4a6585fa81
DTSTART;TZID=America/Toronto:20081205T113000
SEQUENCE:0
TRANSP:TRANSPARENT
DTEND;TZID=America/Toronto:20081205T113000
URL:https://uwaterloo.ca/artificial-intelligence-group/events/ai-seminar-de
 aling-risk-aversion-multiagent-systems
LOCATION:DC - William G. Davis Computer Research Centre 200 University Aven
 ue West 2306C (AI lab) Waterloo ON N2L 3G1 Canada
SUMMARY:AI seminar: Dealing with risk aversion in multiagent systems: An\ni
 nsurance policy based approach
CLASS:PUBLIC
DESCRIPTION:Speaker: Greg Hines\n\nIn much of the literature in multiagent 
 systems\, researchers assume\n(either implicitly or explicitly) that the a
 gents are risk-neutral.\nHowever\, this assumption is not always warranted
  in that agents can be\nrisk-averse.
DTSTAMP:20260314T000544Z
END:VEVENT
END:VCALENDAR