BEGIN:VCALENDAR
VERSION:2.0
PRODID:-//Drupal iCal API//EN
X-WR-CALNAME:Events items teaser
X-WR-TIMEZONE:America/Toronto
BEGIN:VTIMEZONE
TZID:America/Toronto
X-LIC-LOCATION:America/Toronto
BEGIN:DAYLIGHT
TZNAME:EDT
TZOFFSETFROM:-0500
TZOFFSETTO:-0400
DTSTART:20080309T070000
END:DAYLIGHT
BEGIN:STANDARD
TZNAME:EST
TZOFFSETFROM:-0400
TZOFFSETTO:-0500
DTSTART:20081102T060000
END:STANDARD
END:VTIMEZONE
BEGIN:VEVENT
UID:69c2316b792bb
DTSTART;TZID=America/Toronto:20081128T113000
SEQUENCE:0
TRANSP:TRANSPARENT
DTEND;TZID=America/Toronto:20081128T113000
URL:https://uwaterloo.ca/artificial-intelligence-group/events/ai-seminar-me
 asures-clustering-quality-working-set-axioms
LOCATION:DC - William G. Davis Computer Research Centre 200 University Aven
 ue West 2306C (AI lab) Waterloo ON N2L 3G1 Canada
SUMMARY:AI seminar: Measures of clustering quality: A working set of axioms
 \nfor clustering
CLASS:PUBLIC
DESCRIPTION:Speaker: Rita Ackerman\n\nAiming towards the development of a g
 eneral clustering theory\, we\ndiscuss abstract axiomatization for cluster
 ing. In this respect\, we\nfollow up on the work of Kleinberg\, (Kleinberg
 \, 2002) that showed an\nimpossibility result for such axiomatization.
DTSTAMP:20260324T063835Z
END:VEVENT
END:VCALENDAR