BEGIN:VCALENDAR
VERSION:2.0
PRODID:-//Drupal iCal API//EN
X-WR-CALNAME:Events items teaser
X-WR-TIMEZONE:America/Toronto
BEGIN:VTIMEZONE
TZID:America/Toronto
X-LIC-LOCATION:America/Toronto
BEGIN:DAYLIGHT
TZNAME:EDT
TZOFFSETFROM:-0500
TZOFFSETTO:-0400
DTSTART:20080309T070000
END:DAYLIGHT
BEGIN:STANDARD
TZNAME:EST
TZOFFSETFROM:-0400
TZOFFSETTO:-0500
DTSTART:20081102T060000
END:STANDARD
END:VTIMEZONE
BEGIN:VEVENT
UID:69bc44f386b23
DTSTART;TZID=America/Toronto:20081121T113000
SEQUENCE:0
TRANSP:TRANSPARENT
DTEND;TZID=America/Toronto:20081121T113000
URL:https://uwaterloo.ca/artificial-intelligence-group/events/ai-seminar-co
 nstraint-programming-techniques-nhl-elimination
LOCATION:DC - William G. Davis Computer Research Centre 200 University Aven
 ue West 2306C (AI lab) Waterloo ON N2L 3G1 Canada
SUMMARY:AI seminar: Constraint programming techniques for NHL elimination\n
 problems
CLASS:PUBLIC
DESCRIPTION:Speaker: Tyrel Russell\n\nThis talk will discuss the applicatio
 n of constraint programming to\nthe problems of deciding when a team has q
 ualified and\, if not\, what\nconditions must be satisfied in order for th
 em to qualify.
DTSTAMP:20260319T184819Z
END:VEVENT
END:VCALENDAR