BEGIN:VCALENDAR
VERSION:2.0
PRODID:-//Drupal iCal API//EN
X-WR-CALNAME:Events items teaser
X-WR-TIMEZONE:America/Toronto
BEGIN:VTIMEZONE
TZID:America/Toronto
X-LIC-LOCATION:America/Toronto
BEGIN:DAYLIGHT
TZNAME:EDT
TZOFFSETFROM:-0500
TZOFFSETTO:-0400
DTSTART:20080309T070000
END:DAYLIGHT
BEGIN:STANDARD
TZNAME:EST
TZOFFSETFROM:-0400
TZOFFSETTO:-0500
DTSTART:20081102T060000
END:STANDARD
END:VTIMEZONE
BEGIN:VEVENT
UID:69b9de978a8f4
DTSTART;TZID=America/Toronto:20081114T113000
SEQUENCE:0
TRANSP:TRANSPARENT
DTEND;TZID=America/Toronto:20081114T113000
URL:https://uwaterloo.ca/artificial-intelligence-group/events/ai-seminar-ac
 oustic-emissions-handwriting
LOCATION:DC - William G. Davis Computer Research Centre 200 University Aven
 ue West 2306C (AI lab) Waterloo ON N2L 3G1 Canada
SUMMARY:AI seminar: Acoustic emissions of handwriting
CLASS:PUBLIC
DESCRIPTION:Speaker: Andrew Seniuk and Dorothea Blostein (Queens University
 )\n\nHandwriting and speech recognition are problems with a long history.\
 nHowever\, no studies have considered the sounds produced by\nhandwriting\
 , an information source which has connections to both of\nthe aforemention
 ed.
DTSTAMP:20260317T230703Z
END:VEVENT
END:VCALENDAR