BEGIN:VCALENDAR
VERSION:2.0
PRODID:-//Drupal iCal API//EN
X-WR-CALNAME:Events items teaser
X-WR-TIMEZONE:America/Toronto
BEGIN:VTIMEZONE
TZID:America/Toronto
X-LIC-LOCATION:America/Toronto
BEGIN:DAYLIGHT
TZNAME:EDT
TZOFFSETFROM:-0500
TZOFFSETTO:-0400
DTSTART:20080309T070000
END:DAYLIGHT
BEGIN:STANDARD
TZNAME:EST
TZOFFSETFROM:-0400
TZOFFSETTO:-0500
DTSTART:20081102T060000
END:STANDARD
END:VTIMEZONE
BEGIN:VEVENT
UID:69b1b1e7ccc62
DTSTART;TZID=America/Toronto:20081107T113000
SEQUENCE:0
TRANSP:TRANSPARENT
DTEND;TZID=America/Toronto:20081107T113000
URL:https://uwaterloo.ca/artificial-intelligence-group/events/ai-seminar-mu
 lti-agent-approach-dynamic-distributed-resource
LOCATION:DC - William G. Davis Computer Research Centre 200 University Aven
 ue West 2306C (AI lab) Waterloo ON N2L 3G1 Canada
SUMMARY:AI seminar: A multi-agent approach to dynamic distributed resource\
 nallocation in complex uncertain environments
CLASS:PUBLIC
DESCRIPTION:Speaker: Igor Kiselev\n\nClassical dynamic approaches to online
  learning and optimization\naddress the issue of statistical fluctuations 
 of the incoming data by\nmeans of continual retraining their models\, whic
 h is computationally\nintractable for real-world problems of practical int
 erest and is\ninappropriate in time-critical scenarios.
DTSTAMP:20260311T181815Z
END:VEVENT
END:VCALENDAR