BEGIN:VCALENDAR
VERSION:2.0
PRODID:-//Drupal iCal API//EN
X-WR-CALNAME:Events items teaser
X-WR-TIMEZONE:America/Toronto
BEGIN:VTIMEZONE
TZID:America/Toronto
X-LIC-LOCATION:America/Toronto
BEGIN:DAYLIGHT
TZNAME:EDT
TZOFFSETFROM:-0500
TZOFFSETTO:-0400
DTSTART:20080309T070000
END:DAYLIGHT
BEGIN:STANDARD
TZNAME:EST
TZOFFSETFROM:-0400
TZOFFSETTO:-0500
DTSTART:20071104T060000
END:STANDARD
END:VTIMEZONE
BEGIN:VEVENT
UID:69bca7b881f6c
DTSTART;TZID=America/Toronto:20081030T133000
SEQUENCE:0
TRANSP:TRANSPARENT
DTEND;TZID=America/Toronto:20081030T133000
URL:https://uwaterloo.ca/artificial-intelligence-group/events/ai-seminar-sm
 art-cheaters-do-prosper-defeating-trust-and
LOCATION:DC - William G. Davis Computer Research Centre 200 University Aven
 ue West 2306C (AI lab) Waterloo ON N2L 3G1 Canada
SUMMARY:AI seminar: Smart cheaters do prosper: Defeating trust and reputati
 on\nsystems
CLASS:PUBLIC
DESCRIPTION:Speaker: Reid Kerr\n\nTraders in electronic marketplaces may be
 have dishonestly\, cheating\nother agents. A multitude of trust and reputa
 tion systems have been\nproposed to try to cope with the problem of cheati
 ng.
DTSTAMP:20260320T014944Z
END:VEVENT
END:VCALENDAR