BEGIN:VCALENDAR
VERSION:2.0
PRODID:-//Drupal iCal API//EN
X-WR-CALNAME:Events items teaser
X-WR-TIMEZONE:America/Toronto
BEGIN:VTIMEZONE
TZID:America/Toronto
X-LIC-LOCATION:America/Toronto
BEGIN:DAYLIGHT
TZNAME:EDT
TZOFFSETFROM:-0500
TZOFFSETTO:-0400
DTSTART:20080309T070000
END:DAYLIGHT
BEGIN:STANDARD
TZNAME:EST
TZOFFSETFROM:-0400
TZOFFSETTO:-0500
DTSTART:20071104T060000
END:STANDARD
END:VTIMEZONE
BEGIN:VEVENT
UID:69bca7b70af53
DTSTART;TZID=America/Toronto:20081024T113000
SEQUENCE:0
TRANSP:TRANSPARENT
DTEND;TZID=America/Toronto:20081024T113000
URL:https://uwaterloo.ca/artificial-intelligence-group/events/ai-seminar-se
 lf-interested-agents-and-abstract-argumentation
LOCATION:DC - William G. Davis Computer Research Centre 200 University Aven
 ue West 2306C (AI lab) Waterloo ON N2L 3G1 Canada
SUMMARY:AI seminar: Self-interested agents and abstract argumentation
CLASS:PUBLIC
DESCRIPTION:Speaker: Kate Larson\n\nSince its introduction in the mid-ninet
 ies\, Dung's theory of abstract\nargumentation has been influential in AI 
 as it serves as a convenient\nmodel for reasoning about general characteri
 stics of argument.
DTSTAMP:20260320T014943Z
END:VEVENT
END:VCALENDAR