BEGIN:VCALENDAR
VERSION:2.0
PRODID:-//Drupal iCal API//EN
X-WR-CALNAME:Events items teaser
X-WR-TIMEZONE:America/Toronto
BEGIN:VTIMEZONE
TZID:America/Toronto
X-LIC-LOCATION:America/Toronto
BEGIN:DAYLIGHT
TZNAME:EDT
TZOFFSETFROM:-0500
TZOFFSETTO:-0400
DTSTART:20080309T070000
END:DAYLIGHT
BEGIN:STANDARD
TZNAME:EST
TZOFFSETFROM:-0400
TZOFFSETTO:-0500
DTSTART:20071104T060000
END:STANDARD
END:VTIMEZONE
BEGIN:VEVENT
UID:69bca7b6a08e8
DTSTART;TZID=America/Toronto:20081003T113000
SEQUENCE:0
TRANSP:TRANSPARENT
DTEND;TZID=America/Toronto:20081003T113000
URL:https://uwaterloo.ca/artificial-intelligence-group/events/ai-seminar-re
 gret-based-elicitation-rewards-sequential
LOCATION:DC - William G. Davis Computer Research Centre 200 University Aven
 ue West 2306C (AI lab) Waterloo ON N2L 3G1 Canada
SUMMARY:AI seminar: Regret-based elicitation of rewards for sequential\ndec
 ision problems
CLASS:PUBLIC
DESCRIPTION:Speaker: Kevin Regan\, University of Toronto\n\nTraditional met
 hods for finding optimal policies in stochastic\,\nmulti-step decision env
 ironments require a precise model of both the\nenvironment dynamics and th
 e rewards associated with taking actions\nand the effects of those actions
 .
DTSTAMP:20260320T014942Z
END:VEVENT
END:VCALENDAR