BEGIN:VCALENDAR
VERSION:2.0
PRODID:-//Drupal iCal API//EN
X-WR-CALNAME:Events items teaser
X-WR-TIMEZONE:America/Toronto
BEGIN:VTIMEZONE
TZID:America/Toronto
X-LIC-LOCATION:America/Toronto
BEGIN:DAYLIGHT
TZNAME:EDT
TZOFFSETFROM:-0500
TZOFFSETTO:-0400
DTSTART:20080309T070000
END:DAYLIGHT
BEGIN:STANDARD
TZNAME:EST
TZOFFSETFROM:-0400
TZOFFSETTO:-0500
DTSTART:20071104T060000
END:STANDARD
END:VTIMEZONE
BEGIN:VEVENT
UID:69c23180ab3f8
DTSTART;TZID=America/Toronto:20080926T113000
SEQUENCE:0
TRANSP:TRANSPARENT
DTEND;TZID=America/Toronto:20080926T113000
URL:https://uwaterloo.ca/artificial-intelligence-group/events/ai-seminar-sm
 art-walker-project-ai-perspective
LOCATION:DC - William G. Davis Computer Research Centre 200 University Aven
 ue West 2306C (AI lab) Waterloo ON N2L 3G1 Canada
SUMMARY:AI seminar: Smart walker project - An AI perspective
CLASS:PUBLIC
DESCRIPTION:Speaker: Pascal Poupart\, Allan Caine\, Farheen Omar and Adam H
 artfield\n\nWalkers are becoming an increasingly popular mobility aid amon
 g older\nadults. While they are designed to improve balance\, the fact tha
 t many\nwalkers have wheels\, it is not clear whether stability is enhance
 d or\njeopardized.
DTSTAMP:20260324T063856Z
END:VEVENT
END:VCALENDAR