BEGIN:VCALENDAR
VERSION:2.0
PRODID:-//Drupal iCal API//EN
X-WR-CALNAME:Events items teaser
X-WR-TIMEZONE:America/Toronto
BEGIN:VTIMEZONE
TZID:America/Toronto
X-LIC-LOCATION:America/Toronto
BEGIN:DAYLIGHT
TZNAME:EDT
TZOFFSETFROM:-0500
TZOFFSETTO:-0400
DTSTART:20080309T070000
END:DAYLIGHT
BEGIN:STANDARD
TZNAME:EST
TZOFFSETFROM:-0400
TZOFFSETTO:-0500
DTSTART:20071104T060000
END:STANDARD
END:VTIMEZONE
BEGIN:VEVENT
UID:69b0386b4483e
DTSTART;TZID=America/Toronto:20080912T113000
SEQUENCE:0
TRANSP:TRANSPARENT
DTEND;TZID=America/Toronto:20080912T113000
URL:https://uwaterloo.ca/artificial-intelligence-group/events/ai-seminar-me
 chanism-design-using-scoring-rules
LOCATION:DC - William G. Davis Computer Research Centre 200 University Aven
 ue West 2306C (AI lab) Waterloo ON N2L 3G1 Canada
SUMMARY:AI seminar: Mechanism design using scoring rules
CLASS:PUBLIC
DESCRIPTION:Speaker: Enrico Gerding\, University of Southampton\n\nScoring 
 rules are originally used to reward probabilistic estimates\nsuch as weath
 er forecasts\, where the score or utility that an agent\nreceives depends 
 on the materialized outcome of the prediction.\nStrictly proper scoring ru
 le are a class of scoring rule which are\ndesigned such that they incentiv
 ize utility-maximizing agents to\nreveal the entire probability distributi
 on truthfully.
DTSTAMP:20260310T152739Z
END:VEVENT
END:VCALENDAR