BEGIN:VCALENDAR
VERSION:2.0
PRODID:-//Drupal iCal API//EN
X-WR-CALNAME:Events items teaser
X-WR-TIMEZONE:America/Toronto
BEGIN:VTIMEZONE
TZID:America/Toronto
X-LIC-LOCATION:America/Toronto
BEGIN:DAYLIGHT
TZNAME:EDT
TZOFFSETFROM:-0500
TZOFFSETTO:-0400
DTSTART:20080309T070000
END:DAYLIGHT
BEGIN:STANDARD
TZNAME:EST
TZOFFSETFROM:-0400
TZOFFSETTO:-0500
DTSTART:20071104T060000
END:STANDARD
END:VTIMEZONE
BEGIN:VEVENT
UID:69c23180a6632
DTSTART;TZID=America/Toronto:20080703T150000
SEQUENCE:0
TRANSP:TRANSPARENT
DTEND;TZID=America/Toronto:20080703T150000
URL:https://uwaterloo.ca/artificial-intelligence-group/events/ai-seminar-ro
 bust-agent-communities
LOCATION:DC - William G. Davis Computer Research Centre 200 University Aven
 ue West 2306C (AI lab) Waterloo ON N2L 3G1 Canada
SUMMARY:AI seminar: Robust agent communities
CLASS:PUBLIC
DESCRIPTION:Speaker: Sandip Sen\, University of Tulsa\n\nWe believe that in
 telligent information agents will represent their\nusers interest in elect
 ronic marketplaces and other forums to trade\,\nexchange\, share\, identif
 y\, and locate goods and services.
DTSTAMP:20260324T063856Z
END:VEVENT
END:VCALENDAR