BEGIN:VCALENDAR
VERSION:2.0
PRODID:-//Drupal iCal API//EN
X-WR-CALNAME:Events items teaser
X-WR-TIMEZONE:America/Toronto
BEGIN:VTIMEZONE
TZID:America/Toronto
X-LIC-LOCATION:America/Toronto
BEGIN:DAYLIGHT
TZNAME:EDT
TZOFFSETFROM:-0500
TZOFFSETTO:-0400
DTSTART:20080309T070000
END:DAYLIGHT
BEGIN:STANDARD
TZNAME:EST
TZOFFSETFROM:-0400
TZOFFSETTO:-0500
DTSTART:20071104T060000
END:STANDARD
END:VTIMEZONE
BEGIN:VEVENT
UID:69b1b3bfd5fef
DTSTART;TZID=America/Toronto:20080509T113000
SEQUENCE:0
TRANSP:TRANSPARENT
DTEND;TZID=America/Toronto:20080509T113000
URL:https://uwaterloo.ca/artificial-intelligence-group/events/ai-seminar-us
 ing-novel-articulated-creatures-study
LOCATION:DC - William G. Davis Computer Research Centre 200 University Aven
 ue West 2306C (AI lab) Waterloo ON N2L 3G1 Canada
SUMMARY:AI seminar: Using novel articulated creatures to study perceptual\n
 learning of biological motion
CLASS:PUBLIC
DESCRIPTION:Speaker: Daniel Saunders (Queens University)\n\nThere has been 
 much debate about the nature of the processes involved\nin biological moti
 on perception. In contrast to previous views\,\nJastorff et al. (2007) pro
 vided evidence that biological motion is\nunderstood via a mechanism that 
 is specialized\, but also relatively\nplastic\, alterable over the course 
 of hours rather than years.
DTSTAMP:20260311T182607Z
END:VEVENT
END:VCALENDAR