BEGIN:VCALENDAR
VERSION:2.0
PRODID:-//Drupal iCal API//EN
X-WR-CALNAME:Events items teaser
X-WR-TIMEZONE:America/Toronto
BEGIN:VTIMEZONE
TZID:America/Toronto
X-LIC-LOCATION:America/Toronto
BEGIN:DAYLIGHT
TZNAME:EDT
TZOFFSETFROM:-0500
TZOFFSETTO:-0400
DTSTART:20080309T070000
END:DAYLIGHT
BEGIN:STANDARD
TZNAME:EST
TZOFFSETFROM:-0400
TZOFFSETTO:-0500
DTSTART:20071104T060000
END:STANDARD
END:VTIMEZONE
BEGIN:VEVENT
UID:69b6febe13fa2
DTSTART;TZID=America/Toronto:20080315T113000
SEQUENCE:0
TRANSP:TRANSPARENT
DTEND;TZID=America/Toronto:20080315T113000
URL:https://uwaterloo.ca/artificial-intelligence-group/events/ai-seminar-qu
 alification-and-elimination-nhl-using
LOCATION:DC - William G. Davis Computer Research Centre 200 University Aven
 ue West 2306C (AI lab) Waterloo ON N2L 3G1 Canada
SUMMARY:AI seminar: Qualification and elimination in the NHL using constrai
 nt\nprogramming
CLASS:PUBLIC
DESCRIPTION:Speaker: Tyrel Russell\n\nSports fans in many sports anxiously 
 watch their team's performances\nand their chances of winning a championsh
 ip or securing a playoff\nspot. Typically\, they obtain their information 
 from major newspapers\nand websites\, which publish standings along with r
 emarks on the\nqualification and elimination of the individual teams.
DTSTAMP:20260315T184726Z
END:VEVENT
END:VCALENDAR