BEGIN:VCALENDAR
VERSION:2.0
PRODID:-//Drupal iCal API//EN
X-WR-CALNAME:Events items teaser
X-WR-TIMEZONE:America/Toronto
BEGIN:VTIMEZONE
TZID:America/Toronto
X-LIC-LOCATION:America/Toronto
BEGIN:DAYLIGHT
TZNAME:EDT
TZOFFSETFROM:-0500
TZOFFSETTO:-0400
DTSTART:20060402T070000
END:DAYLIGHT
BEGIN:STANDARD
TZNAME:EST
TZOFFSETFROM:-0400
TZOFFSETTO:-0500
DTSTART:20061029T060000
END:STANDARD
END:VTIMEZONE
BEGIN:VEVENT
UID:69b6febf0b58a
DTSTART;TZID=America/Toronto:20070202T140000
SEQUENCE:0
TRANSP:TRANSPARENT
DTEND;TZID=America/Toronto:20070202T140000
URL:https://uwaterloo.ca/artificial-intelligence-group/events/ai-seminar-th
 ree-perspectives-granular-computing
LOCATION:DC - William G. Davis Computer Research Centre 200 University Aven
 ue West 2306C (AI lab) Waterloo ON N2L 3G1 Canada
SUMMARY:AI seminar: Three perspectives of granular computing
CLASS:PUBLIC
DESCRIPTION:Speaker: Yiyu Yao\, University of Regina\n\nAs an emerging fiel
 d of study\, granular computing has received much\nattention. Many models\
 , frameworks\, methods and techniques have been\nproposed and studied. It 
 is perhaps the time to seek for a general and\nunified view so that fundam
 ental issues can be examined and clarified.\nThis talk examines granular c
 omputing from three perspectives.
DTSTAMP:20260315T184727Z
END:VEVENT
END:VCALENDAR