BEGIN:VCALENDAR
VERSION:2.0
PRODID:-//Drupal iCal API//EN
X-WR-CALNAME:Events items teaser
X-WR-TIMEZONE:America/Toronto
BEGIN:VTIMEZONE
TZID:America/Toronto
X-LIC-LOCATION:America/Toronto
BEGIN:DAYLIGHT
TZNAME:EDT
TZOFFSETFROM:-0500
TZOFFSETTO:-0400
DTSTART:20060402T070000
END:DAYLIGHT
BEGIN:STANDARD
TZNAME:EST
TZOFFSETFROM:-0400
TZOFFSETTO:-0500
DTSTART:20061029T060000
END:STANDARD
END:VTIMEZONE
BEGIN:VEVENT
UID:69b6febad0da7
DTSTART;TZID=America/Toronto:20070216T113000
SEQUENCE:0
TRANSP:TRANSPARENT
DTEND;TZID=America/Toronto:20070216T113000
URL:https://uwaterloo.ca/artificial-intelligence-group/events/ai-seminar-le
 arning-when-training-input-and-test-data-come
LOCATION:DC - William G. Davis Computer Research Centre 200 University Aven
 ue West 2306C (AI lab) Waterloo ON N2L 3G1 Canada
SUMMARY:AI seminar: Learning when training input and test data come from\nd
 ifferent distributions
CLASS:PUBLIC
DESCRIPTION:Speaker: Shai Ben-David\n\nCommon machine learning theory makes
  some simplifying assumptions\nabout the learning set up. A problematic su
 ch simplification is the\nassumption that the data available to the learne
 r for training is a\nfaithful representative of the data it will be later 
 tested on.
DTSTAMP:20260315T184722Z
END:VEVENT
END:VCALENDAR