BEGIN:VCALENDAR
VERSION:2.0
PRODID:-//Drupal iCal API//EN
X-WR-CALNAME:Events items teaser
X-WR-TIMEZONE:America/Toronto
BEGIN:VTIMEZONE
TZID:America/Toronto
X-LIC-LOCATION:America/Toronto
BEGIN:DAYLIGHT
TZNAME:EDT
TZOFFSETFROM:-0500
TZOFFSETTO:-0400
DTSTART:20060402T070000
END:DAYLIGHT
BEGIN:STANDARD
TZNAME:EST
TZOFFSETFROM:-0400
TZOFFSETTO:-0500
DTSTART:20061029T060000
END:STANDARD
END:VTIMEZONE
BEGIN:VEVENT
UID:69b3eb171269f
DTSTART;TZID=America/Toronto:20070309T113000
SEQUENCE:0
TRANSP:TRANSPARENT
DTEND;TZID=America/Toronto:20070309T113000
URL:https://uwaterloo.ca/artificial-intelligence-group/events/ai-seminar-ai
 -hardness-captchas-does-not-imply-robust
LOCATION:DC - William G. Davis Computer Research Centre 200 University Aven
 ue West 2306C (AI lab) Waterloo ON N2L 3G1 Canada
SUMMARY:AI seminar: The AI hardness of CAPTCHAs does not imply robust netwo
 rk\nsecurity
CLASS:PUBLIC
DESCRIPTION:Speaker: Allan Caine\n\nA CAPTCHA is a special kind of AI hard 
 test to prevent bots from\nlogging into computer systems. We define an AI 
 hard test to be a\nproblem which is intractable for a computer to solve as
  a matter of\ngeneral consensus of the AI community.
DTSTAMP:20260313T104647Z
END:VEVENT
END:VCALENDAR