BEGIN:VCALENDAR
VERSION:2.0
PRODID:-//Drupal iCal API//EN
X-WR-CALNAME:Events items teaser
X-WR-TIMEZONE:America/Toronto
BEGIN:VTIMEZONE
TZID:America/Toronto
X-LIC-LOCATION:America/Toronto
BEGIN:DAYLIGHT
TZNAME:EDT
TZOFFSETFROM:-0500
TZOFFSETTO:-0400
DTSTART:20070311T070000
END:DAYLIGHT
BEGIN:STANDARD
TZNAME:EST
TZOFFSETFROM:-0400
TZOFFSETTO:-0500
DTSTART:20061029T060000
END:STANDARD
END:VTIMEZONE
BEGIN:VEVENT
UID:69b6febc0b0ed
DTSTART;TZID=America/Toronto:20070427T113000
SEQUENCE:0
TRANSP:TRANSPARENT
DTEND;TZID=America/Toronto:20070427T113000
URL:https://uwaterloo.ca/artificial-intelligence-group/events/ai-seminar-us
 ing-adaptive-consultation-experts-improve
LOCATION:DC - William G. Davis Computer Research Centre 200 University Aven
 ue West 2306C (AI lab) Waterloo ON N2L 3G1 Canada
SUMMARY:AI seminar: Using adaptive consultation of experts to improve\nconv
 ergence rates in multiagent learning\, and reducing communication\ncost: A
  mechanism design approach
CLASS:PUBLIC
DESCRIPTION:USING ADAPTIVE CONSULTATION OF EXPERTS TO IMPROVE CONVERGENCE R
 ATES IN\nMULTIAGENT LEARNING\n\nSpeaker: Greg Hines\n\nIn this paper we st
 udy the use of experts algorithms in a multiagent\nsetting.
DTSTAMP:20260315T184724Z
END:VEVENT
END:VCALENDAR