BEGIN:VCALENDAR
VERSION:2.0
PRODID:-//Drupal iCal API//EN
X-WR-CALNAME:Events items teaser
X-WR-TIMEZONE:America/Toronto
BEGIN:VTIMEZONE
TZID:America/Toronto
X-LIC-LOCATION:America/Toronto
BEGIN:DAYLIGHT
TZNAME:EDT
TZOFFSETFROM:-0500
TZOFFSETTO:-0400
DTSTART:20070311T070000
END:DAYLIGHT
BEGIN:STANDARD
TZNAME:EST
TZOFFSETFROM:-0400
TZOFFSETTO:-0500
DTSTART:20061029T060000
END:STANDARD
END:VTIMEZONE
BEGIN:VEVENT
UID:69b6febb5b620
DTSTART;TZID=America/Toronto:20070504T123000
SEQUENCE:0
TRANSP:TRANSPARENT
DTEND;TZID=America/Toronto:20070504T123000
URL:https://uwaterloo.ca/artificial-intelligence-group/events/ai-seminar-em
 otional-conciousness-neural-model-how-cognitive
LOCATION:DC - William G. Davis Computer Research Centre 200 University Aven
 ue West 2306C (AI lab) Waterloo ON N2L 3G1 Canada
SUMMARY:AI seminar: Emotional conciousness: A neural model of how cognitive
 \nappraisal and somatic perception interact to produce qualitative\nexperi
 ence
CLASS:PUBLIC
DESCRIPTION:Speaker: Paul Thagard\n\nThis talk proposes a theory of how con
 scious emotional experience is\nproduced by the brain as the result of man
 y interacting brain areas\ncoordinated in working memory.
DTSTAMP:20260315T184723Z
END:VEVENT
END:VCALENDAR